Package: phantasus Version: 1.26.0 Command: rm -rf phantasus.buildbin-libdir && mkdir phantasus.buildbin-libdir && F:\biocbuild\bbs-3.20-bioc\R\bin\R.exe CMD INSTALL --build --library=phantasus.buildbin-libdir phantasus_1.26.0.tar.gz StartedAt: 2025-01-28 08:48:11 -0500 (Tue, 28 Jan 2025) EndedAt: 2025-01-28 08:50:16 -0500 (Tue, 28 Jan 2025) EllapsedTime: 124.4 seconds RetCode: 0 Status: OK PackageFile: phantasus_1.26.0.zip PackageFileSize: 8.319 MiB