Package: phantasus Version: 1.26.0 Command: /Library/Frameworks/R.framework/Resources/bin/R CMD INSTALL phantasus StartedAt: 2025-01-27 16:15:09 -0500 (Mon, 27 Jan 2025) EndedAt: 2025-01-27 16:16:23 -0500 (Mon, 27 Jan 2025) EllapsedTime: 74.4 seconds RetCode: 0 Status: OK