Package: phantasus Version: 1.26.0 Command: /Library/Frameworks/R.framework/Resources/bin/R CMD build --keep-empty-dirs --no-resave-data phantasus StartedAt: 2025-01-27 21:30:23 -0500 (Mon, 27 Jan 2025) EndedAt: 2025-01-27 21:32:11 -0500 (Mon, 27 Jan 2025) EllapsedTime: 108.5 seconds RetCode: 0 Status: OK PackageFile: phantasus_1.26.0.tar.gz PackageFileSize: 9.551 MiB