Package: phantasus Version: 1.26.0 Command: /Library/Frameworks/R.framework/Resources/bin/R CMD build --keep-empty-dirs --no-resave-data phantasus StartedAt: 2025-02-04 05:27:11 -0500 (Tue, 04 Feb 2025) EndedAt: 2025-02-04 05:28:05 -0500 (Tue, 04 Feb 2025) EllapsedTime: 53.5 seconds RetCode: 0 Status: OK PackageFile: phantasus_1.26.0.tar.gz PackageFileSize: 9.551 MiB