Package: pgca Version: 1.30.0 Command: /home/biocbuild/R/R/bin/R CMD INSTALL pgca StartedAt: 2025-03-31 20:12:33 -0000 (Mon, 31 Mar 2025) EndedAt: 2025-03-31 20:13:14 -0000 (Mon, 31 Mar 2025) EllapsedTime: 41.7 seconds RetCode: 0 Status: OK