Package: pgca Version: 1.30.0 Command: /Library/Frameworks/R.framework/Resources/bin/R CMD INSTALL pgca StartedAt: 2025-02-03 15:12:30 -0500 (Mon, 03 Feb 2025) EndedAt: 2025-02-03 15:12:35 -0500 (Mon, 03 Feb 2025) EllapsedTime: 4.9 seconds RetCode: 0 Status: OK