Package: pgca Version: 1.30.0 Command: /Library/Frameworks/R.framework/Resources/bin/R CMD check --install=check:pgca.install-out.txt --library=/Library/Frameworks/R.framework/Resources/library --no-vignettes --timings pgca_1.30.0.tar.gz StartedAt: 2025-02-05 05:15:59 -0500 (Wed, 05 Feb 2025) EndedAt: 2025-02-05 05:16:28 -0500 (Wed, 05 Feb 2025) EllapsedTime: 29.1 seconds RetCode: 0 Status: OK CheckDir: pgca.Rcheck Warnings: 0