Package: pgca Version: 1.30.0 Command: /Library/Frameworks/R.framework/Resources/bin/R CMD build --keep-empty-dirs --no-resave-data pgca StartedAt: 2025-01-28 05:17:25 -0500 (Tue, 28 Jan 2025) EndedAt: 2025-01-28 05:17:33 -0500 (Tue, 28 Jan 2025) EllapsedTime: 7.8 seconds RetCode: 0 Status: OK PackageFile: pgca_1.30.0.tar.gz PackageFileSize: 217.5 KiB