Package: pfamAnalyzeR Version: 1.6.0 Command: /home/biocbuild/R/R/bin/R CMD INSTALL pfamAnalyzeR StartedAt: 2025-01-27 21:07:56 -0000 (Mon, 27 Jan 2025) EndedAt: 2025-01-27 21:08:09 -0000 (Mon, 27 Jan 2025) EllapsedTime: 12.5 seconds RetCode: 0 Status: OK