Package: pfamAnalyzeR Version: 1.6.0 Command: /home/biocbuild/R/R/bin/R CMD build --keep-empty-dirs --no-resave-data pfamAnalyzeR StartedAt: 2025-01-28 02:20:16 -0000 (Tue, 28 Jan 2025) EndedAt: 2025-01-28 02:20:25 -0000 (Tue, 28 Jan 2025) EllapsedTime: 9.0 seconds RetCode: 0 Status: OK PackageFile: pfamAnalyzeR_1.6.0.tar.gz PackageFileSize: 374.8 KiB