Package: pfamAnalyzeR Version: 1.6.0 Command: F:\biocbuild\bbs-3.20-bioc\R\bin\R.exe CMD INSTALL pfamAnalyzeR StartedAt: 2025-01-27 15:35:13 -0500 (Mon, 27 Jan 2025) EndedAt: 2025-01-27 15:35:23 -0500 (Mon, 27 Jan 2025) EllapsedTime: 10.4 seconds RetCode: 0 Status: OK