Package: pfamAnalyzeR Version: 1.6.0 Command: rm -rf pfamAnalyzeR.buildbin-libdir && mkdir pfamAnalyzeR.buildbin-libdir && /Users/biocbuild/BBS/utils/build-universal.sh pfamAnalyzeR_1.6.0.tar.gz /Library/Frameworks/R.framework/Resources/bin/R pfamAnalyzeR.buildbin-libdir StartedAt: 2025-01-28 14:05:11 -0500 (Tue, 28 Jan 2025) EndedAt: 2025-01-28 14:05:32 -0500 (Tue, 28 Jan 2025) EllapsedTime: 21.1 seconds RetCode: 0 Status: OK PackageFile: pfamAnalyzeR_1.6.0.tgz PackageFileSize: 310.8 KiB