Package: pfamAnalyzeR Version: 1.6.0 Command: /Library/Frameworks/R.framework/Resources/bin/R CMD INSTALL pfamAnalyzeR StartedAt: 2025-02-03 15:21:38 -0500 (Mon, 03 Feb 2025) EndedAt: 2025-02-03 15:21:42 -0500 (Mon, 03 Feb 2025) EllapsedTime: 4.3 seconds RetCode: 0 Status: OK