Package: periodicDNA Version: 1.16.0 Command: chmod a+r periodicDNA -R && F:\biocbuild\bbs-3.20-bioc\R\bin\R.exe CMD build --keep-empty-dirs --no-resave-data periodicDNA StartedAt: 2025-03-31 20:58:12 -0400 (Mon, 31 Mar 2025) EndedAt: 2025-03-31 21:00:00 -0400 (Mon, 31 Mar 2025) EllapsedTime: 107.8 seconds RetCode: 0 Status: OK PackageFile: periodicDNA_1.16.0.tar.gz PackageFileSize: 2.864 MiB