Package: periodicDNA Version: 1.16.0 Command: rm -rf periodicDNA.buildbin-libdir && mkdir periodicDNA.buildbin-libdir && F:\biocbuild\bbs-3.20-bioc\R\bin\R.exe CMD INSTALL --build --library=periodicDNA.buildbin-libdir periodicDNA_1.16.0.tar.gz StartedAt: 2025-04-01 08:51:30 -0400 (Tue, 01 Apr 2025) EndedAt: 2025-04-01 08:52:17 -0400 (Tue, 01 Apr 2025) EllapsedTime: 47.6 seconds RetCode: 0 Status: OK PackageFile: periodicDNA_1.16.0.zip PackageFileSize: 2.962 MiB