Package: pepStat Version: 1.40.0 Command: /Library/Frameworks/R.framework/Resources/bin/R CMD build --keep-empty-dirs --no-resave-data pepStat StartedAt: 2025-03-31 20:57:56 -0400 (Mon, 31 Mar 2025) EndedAt: 2025-03-31 21:00:19 -0400 (Mon, 31 Mar 2025) EllapsedTime: 143.3 seconds RetCode: 0 Status: OK PackageFile: pepStat_1.40.0.tar.gz PackageFileSize: 319.5 KiB