Package: pepStat Version: 1.40.0 Command: rm -rf pepStat.buildbin-libdir && mkdir pepStat.buildbin-libdir && /Users/biocbuild/BBS/utils/build-universal.sh pepStat_1.40.0.tar.gz /Library/Frameworks/R.framework/Resources/bin/R pepStat.buildbin-libdir StartedAt: 2025-04-01 12:26:36 -0400 (Tue, 01 Apr 2025) EndedAt: 2025-04-01 12:27:18 -0400 (Tue, 01 Apr 2025) EllapsedTime: 42.0 seconds RetCode: 0 Status: OK PackageFile: pepStat_1.40.0.tgz PackageFileSize: 735.4 KiB