Package: peco Version: 1.18.0 Command: /home/biocbuild/R/R/bin/R CMD build --keep-empty-dirs --no-resave-data peco StartedAt: 2025-02-04 01:48:03 -0000 (Tue, 04 Feb 2025) EndedAt: 2025-02-04 01:50:51 -0000 (Tue, 04 Feb 2025) EllapsedTime: 167.2 seconds RetCode: 0 Status: OK PackageFile: peco_1.18.0.tar.gz PackageFileSize: 1.04 MiB