Package: peco Version: 1.18.0 Command: /home/biocbuild/bbs-3.20-bioc/R/bin/R CMD check --install=check:peco.install-out.txt --library=/home/biocbuild/bbs-3.20-bioc/R/site-library --timings peco_1.18.0.tar.gz StartedAt: 2025-04-01 00:53:09 -0400 (Tue, 01 Apr 2025) EndedAt: 2025-04-01 01:02:58 -0400 (Tue, 01 Apr 2025) EllapsedTime: 588.7 seconds RetCode: 0 Status: OK CheckDir: peco.Rcheck Warnings: 0