Package: pdInfoBuilder Version: 1.70.0 Command: rm -rf pdInfoBuilder.buildbin-libdir && mkdir pdInfoBuilder.buildbin-libdir && F:\biocbuild\bbs-3.20-bioc\R\bin\R.exe CMD INSTALL --build --library=pdInfoBuilder.buildbin-libdir pdInfoBuilder_1.70.0.tar.gz StartedAt: 2025-04-01 08:50:46 -0400 (Tue, 01 Apr 2025) EndedAt: 2025-04-01 08:53:19 -0400 (Tue, 01 Apr 2025) EllapsedTime: 153.5 seconds RetCode: 0 Status: OK PackageFile: pdInfoBuilder_1.70.0.zip PackageFileSize: 838.5 KiB