Package: pdInfoBuilder Version: 1.70.0 Command: /Library/Frameworks/R.framework/Resources/bin/R CMD INSTALL pdInfoBuilder StartedAt: 2025-03-31 15:47:11 -0400 (Mon, 31 Mar 2025) EndedAt: 2025-03-31 15:47:13 -0400 (Mon, 31 Mar 2025) EllapsedTime: 1.6 seconds RetCode: 1 Status: ERROR