Package: pdInfoBuilder Version: 1.70.0 Command: /Library/Frameworks/R.framework/Resources/bin/R CMD build --keep-empty-dirs --no-resave-data pdInfoBuilder StartedAt: 2025-01-28 05:13:51 -0500 (Tue, 28 Jan 2025) EndedAt: 2025-01-28 05:14:32 -0500 (Tue, 28 Jan 2025) EllapsedTime: 40.9 seconds RetCode: 0 Status: OK PackageFile: pdInfoBuilder_1.70.0.tar.gz PackageFileSize: 348.1 KiB