Package: pcaExplorer Version: 3.0.0 Command: /home/biocbuild/R/R/bin/R CMD INSTALL pcaExplorer StartedAt: 2025-01-27 21:55:04 -0000 (Mon, 27 Jan 2025) EndedAt: 2025-01-27 21:56:13 -0000 (Mon, 27 Jan 2025) EllapsedTime: 69.1 seconds RetCode: 0 Status: OK