Package: pcaExplorer Version: 3.0.0 Command: /home/biocbuild/R/R/bin/R CMD build --keep-empty-dirs --no-resave-data pcaExplorer StartedAt: 2025-01-28 02:17:52 -0000 (Tue, 28 Jan 2025) EndedAt: 2025-01-28 02:20:27 -0000 (Tue, 28 Jan 2025) EllapsedTime: 155.1 seconds RetCode: 0 Status: OK PackageFile: pcaExplorer_3.0.0.tar.gz PackageFileSize: 9.717 MiB