Package: pcaExplorer Version: 3.0.0 Command: /home/biocbuild/bbs-3.20-bioc/R/bin/R CMD build --keep-empty-dirs --no-resave-data --md5 pcaExplorer StartedAt: 2025-01-27 19:26:49 -0500 (Mon, 27 Jan 2025) EndedAt: 2025-01-27 19:28:50 -0500 (Mon, 27 Jan 2025) EllapsedTime: 121.1 seconds RetCode: 0 Status: OK PackageFile: pcaExplorer_3.0.0.tar.gz PackageFileSize: 10.72 MiB