Package: pcaExplorer Version: 3.0.0 Command: /Library/Frameworks/R.framework/Resources/bin/R CMD build --keep-empty-dirs --no-resave-data pcaExplorer StartedAt: 2025-01-27 21:26:57 -0500 (Mon, 27 Jan 2025) EndedAt: 2025-01-27 21:32:04 -0500 (Mon, 27 Jan 2025) EllapsedTime: 306.9 seconds RetCode: 0 Status: OK PackageFile: pcaExplorer_3.0.0.tar.gz PackageFileSize: 10.74 MiB