Package: paxtoolsr Version: 1.40.0 Command: /Library/Frameworks/R.framework/Resources/bin/R CMD build --keep-empty-dirs --no-resave-data paxtoolsr StartedAt: 2025-04-01 04:57:14 -0400 (Tue, 01 Apr 2025) EndedAt: 2025-04-01 04:57:37 -0400 (Tue, 01 Apr 2025) EllapsedTime: 23.6 seconds RetCode: 1 Status: ERROR PackageFile: None PackageFileSize: NA