Package: pathwayPCA Version: 1.22.0 Command: /home/biocbuild/R/R/bin/R CMD INSTALL pathwayPCA StartedAt: 2025-03-31 21:01:04 -0000 (Mon, 31 Mar 2025) EndedAt: 2025-03-31 21:01:15 -0000 (Mon, 31 Mar 2025) EllapsedTime: 11.3 seconds RetCode: 0 Status: OK