Package: pathwayPCA Version: 1.22.0 Command: /home/biocbuild/R/R/bin/R CMD build --keep-empty-dirs --no-resave-data pathwayPCA StartedAt: 2025-04-01 01:28:59 -0000 (Tue, 01 Apr 2025) EndedAt: 2025-04-01 01:33:38 -0000 (Tue, 01 Apr 2025) EllapsedTime: 279.1 seconds RetCode: 0 Status: OK PackageFile: pathwayPCA_1.22.0.tar.gz PackageFileSize: 2.918 MiB