Package: pathwayPCA Version: 1.22.0 Command: /Library/Frameworks/R.framework/Resources/bin/R CMD INSTALL pathwayPCA StartedAt: 2025-01-27 16:31:30 -0500 (Mon, 27 Jan 2025) EndedAt: 2025-01-27 16:31:50 -0500 (Mon, 27 Jan 2025) EllapsedTime: 20.2 seconds RetCode: 0 Status: OK