Package: pathview Version: 1.46.0 Command: /home/biocbuild/R/R/bin/R CMD check --install=check:pathview.install-out.txt --library=/home/biocbuild/R/R/site-library --no-vignettes --timings pathview_1.46.0.tar.gz StartedAt: 2025-01-28 09:54:47 -0000 (Tue, 28 Jan 2025) EndedAt: 2025-01-28 09:57:38 -0000 (Tue, 28 Jan 2025) EllapsedTime: 171.2 seconds RetCode: 0 Status: WARNINGS CheckDir: pathview.Rcheck Warnings: 1