Package: pathview Version: 1.46.0 Command: rm -rf pathview.buildbin-libdir && mkdir pathview.buildbin-libdir && F:\biocbuild\bbs-3.20-bioc\R\bin\R.exe CMD INSTALL --build --library=pathview.buildbin-libdir pathview_1.46.0.tar.gz StartedAt: 2025-02-04 09:08:59 -0500 (Tue, 04 Feb 2025) EndedAt: 2025-02-04 09:09:35 -0500 (Tue, 04 Feb 2025) EllapsedTime: 36.3 seconds RetCode: 0 Status: OK PackageFile: pathview_1.46.0.zip PackageFileSize: 2.787 MiB