Package: pathview Version: 1.46.0 Command: /Library/Frameworks/R.framework/Resources/bin/R CMD build --keep-empty-dirs --no-resave-data pathview StartedAt: 2025-01-28 05:10:41 -0500 (Tue, 28 Jan 2025) EndedAt: 2025-01-28 05:12:39 -0500 (Tue, 28 Jan 2025) EllapsedTime: 117.9 seconds RetCode: 0 Status: OK PackageFile: pathview_1.46.0.tar.gz PackageFileSize: 2.398 MiB