Package: pathlinkR Version: 1.2.0 Command: /Library/Frameworks/R.framework/Resources/bin/R CMD INSTALL pathlinkR StartedAt: 2025-02-10 16:38:08 -0500 (Mon, 10 Feb 2025) EndedAt: 2025-02-10 16:38:43 -0500 (Mon, 10 Feb 2025) EllapsedTime: 34.5 seconds RetCode: 0 Status: OK