Package: pathifier Version: 1.44.0 Command: /home/biocbuild/R/R/bin/R CMD INSTALL pathifier StartedAt: 2025-01-27 21:05:55 -0000 (Mon, 27 Jan 2025) EndedAt: 2025-01-27 21:06:19 -0000 (Mon, 27 Jan 2025) EllapsedTime: 23.8 seconds RetCode: 0 Status: OK