Package: pathifier Version: 1.44.0 Command: /home/biocbuild/R/R/bin/R CMD check --install=check:pathifier.install-out.txt --library=/home/biocbuild/R/R/site-library --no-vignettes --timings pathifier_1.44.0.tar.gz StartedAt: 2025-04-01 09:17:33 -0000 (Tue, 01 Apr 2025) EndedAt: 2025-04-01 09:18:43 -0000 (Tue, 01 Apr 2025) EllapsedTime: 69.2 seconds RetCode: 0 Status: OK CheckDir: pathifier.Rcheck Warnings: 0