Package: pathifier Version: 1.44.0 Command: /home/biocbuild/bbs-3.20-bioc/R/bin/R CMD INSTALL pathifier StartedAt: 2025-02-03 15:16:00 -0500 (Mon, 03 Feb 2025) EndedAt: 2025-02-03 15:16:13 -0500 (Mon, 03 Feb 2025) EllapsedTime: 12.3 seconds RetCode: 0 Status: OK