Package: pathifier Version: 1.44.0 Command: /Library/Frameworks/R.framework/Resources/bin/R CMD check --install=check:pathifier.install-out.txt --library=/Library/Frameworks/R.framework/Resources/library --no-vignettes --timings pathifier_1.44.0.tar.gz StartedAt: 2024-11-20 01:00:35 -0500 (Wed, 20 Nov 2024) EndedAt: 2024-11-20 01:05:02 -0500 (Wed, 20 Nov 2024) EllapsedTime: 266.4 seconds RetCode: 0 Status: OK CheckDir: pathifier.Rcheck Warnings: 0