Package: pathifier Version: 1.44.0 Command: /Library/Frameworks/R.framework/Resources/bin/R CMD build --keep-empty-dirs --no-resave-data pathifier StartedAt: 2025-01-28 05:08:59 -0500 (Tue, 28 Jan 2025) EndedAt: 2025-01-28 05:09:22 -0500 (Tue, 28 Jan 2025) EllapsedTime: 22.7 seconds RetCode: 0 Status: OK PackageFile: pathifier_1.44.0.tar.gz PackageFileSize: 2.033 MiB