Package: pathRender Version: 1.74.0 Command: /Library/Frameworks/R.framework/Resources/bin/R CMD INSTALL pathRender StartedAt: 2025-01-27 15:30:09 -0500 (Mon, 27 Jan 2025) EndedAt: 2025-01-27 15:30:37 -0500 (Mon, 27 Jan 2025) EllapsedTime: 28.5 seconds RetCode: 0 Status: OK