Package: pathRender Version: 1.74.0 Command: /Library/Frameworks/R.framework/Resources/bin/R CMD build --keep-empty-dirs --no-resave-data pathRender StartedAt: 2025-01-27 21:25:47 -0500 (Mon, 27 Jan 2025) EndedAt: 2025-01-27 21:26:57 -0500 (Mon, 27 Jan 2025) EllapsedTime: 69.3 seconds RetCode: 0 Status: OK PackageFile: pathRender_1.74.0.tar.gz PackageFileSize: 300.6 KiB