Package: pathRender Version: 1.74.0 Command: /Library/Frameworks/R.framework/Resources/bin/R CMD check --install=check:pathRender.install-out.txt --library=/Library/Frameworks/R.framework/Resources/library --no-vignettes --timings pathRender_1.74.0.tar.gz StartedAt: 2024-11-20 01:02:08 -0500 (Wed, 20 Nov 2024) EndedAt: 2024-11-20 01:07:13 -0500 (Wed, 20 Nov 2024) EllapsedTime: 304.5 seconds RetCode: 0 Status: OK CheckDir: pathRender.Rcheck Warnings: 0