Package: pathRender Version: 1.74.0 Command: /Library/Frameworks/R.framework/Resources/bin/R CMD build --keep-empty-dirs --no-resave-data pathRender StartedAt: 2024-11-19 18:04:28 -0500 (Tue, 19 Nov 2024) EndedAt: 2024-11-19 18:06:19 -0500 (Tue, 19 Nov 2024) EllapsedTime: 111.4 seconds RetCode: 0 Status: OK PackageFile: pathRender_1.74.0.tar.gz PackageFileSize: 301.3 KiB