Package: pathRender Version: 1.74.0 Command: /Library/Frameworks/R.framework/Resources/bin/R CMD INSTALL pathRender StartedAt: 2025-03-31 15:41:17 -0400 (Mon, 31 Mar 2025) EndedAt: 2025-03-31 15:41:32 -0400 (Mon, 31 Mar 2025) EllapsedTime: 15.4 seconds RetCode: 0 Status: OK