Package: pathRender Version: 1.74.0 Command: /Library/Frameworks/R.framework/Resources/bin/R CMD check --install=check:pathRender.install-out.txt --library=/Library/Frameworks/R.framework/Resources/library --no-vignettes --timings pathRender_1.74.0.tar.gz StartedAt: 2025-04-02 03:44:38 -0400 (Wed, 02 Apr 2025) EndedAt: 2025-04-02 03:46:23 -0400 (Wed, 02 Apr 2025) EllapsedTime: 105.5 seconds RetCode: 0 Status: OK CheckDir: pathRender.Rcheck Warnings: 0