Package: parglms Version: 1.38.0 Command: F:\biocbuild\bbs-3.20-bioc\R\bin\R.exe CMD INSTALL parglms StartedAt: 2025-01-27 15:48:56 -0500 (Mon, 27 Jan 2025) EndedAt: 2025-01-27 15:49:09 -0500 (Mon, 27 Jan 2025) EllapsedTime: 12.9 seconds RetCode: 0 Status: OK