Package: parglms Version: 1.38.0 Command: /home/biocbuild/bbs-3.20-bioc/R/bin/R CMD build --keep-empty-dirs --no-resave-data --md5 parglms StartedAt: 2025-03-31 18:28:40 -0400 (Mon, 31 Mar 2025) EndedAt: 2025-03-31 18:29:05 -0400 (Mon, 31 Mar 2025) EllapsedTime: 25.1 seconds RetCode: 0 Status: OK PackageFile: parglms_1.38.0.tar.gz PackageFileSize: 273.8 KiB