Package: parglms Version: 1.38.0 Command: /Library/Frameworks/R.framework/Resources/bin/R CMD INSTALL parglms StartedAt: 2025-01-27 15:51:39 -0500 (Mon, 27 Jan 2025) EndedAt: 2025-01-27 15:51:51 -0500 (Mon, 27 Jan 2025) EllapsedTime: 12.1 seconds RetCode: 0 Status: OK