Package: parglms Version: 1.38.0 Command: /Library/Frameworks/R.framework/Resources/bin/R CMD INSTALL parglms StartedAt: 2025-03-31 16:23:57 -0400 (Mon, 31 Mar 2025) EndedAt: 2025-03-31 16:24:03 -0400 (Mon, 31 Mar 2025) EllapsedTime: 6.5 seconds RetCode: 0 Status: OK