Package: pareg Version: 1.10.0 Command: F:\biocbuild\bbs-3.20-bioc\R\bin\R.exe CMD INSTALL pareg StartedAt: 2025-01-27 16:37:07 -0500 (Mon, 27 Jan 2025) EndedAt: 2025-01-27 16:39:28 -0500 (Mon, 27 Jan 2025) EllapsedTime: 141.7 seconds RetCode: 0 Status: OK